BEGIN:VCALENDAR
VERSION:2.0
PRODID:-//subrosa * Dortmund - ECPv6.15.12.2//NONSGML v1.0//EN
CALSCALE:GREGORIAN
METHOD:PUBLISH
X-ORIGINAL-URL:https://hafenschaenke.de
X-WR-CALDESC:Veranstaltungen für subrosa * Dortmund
REFRESH-INTERVAL;VALUE=DURATION:PT1H
X-Robots-Tag:noindex
X-PUBLISHED-TTL:PT1H
BEGIN:VTIMEZONE
TZID:Europe/Berlin
BEGIN:DAYLIGHT
TZOFFSETFROM:+0100
TZOFFSETTO:+0200
TZNAME:CEST
DTSTART:20250330T010000
END:DAYLIGHT
BEGIN:STANDARD
TZOFFSETFROM:+0200
TZOFFSETTO:+0100
TZNAME:CET
DTSTART:20251026T010000
END:STANDARD
BEGIN:DAYLIGHT
TZOFFSETFROM:+0100
TZOFFSETTO:+0200
TZNAME:CEST
DTSTART:20260329T010000
END:DAYLIGHT
BEGIN:STANDARD
TZOFFSETFROM:+0200
TZOFFSETTO:+0100
TZNAME:CET
DTSTART:20261025T010000
END:STANDARD
BEGIN:DAYLIGHT
TZOFFSETFROM:+0100
TZOFFSETTO:+0200
TZNAME:CEST
DTSTART:20270328T010000
END:DAYLIGHT
BEGIN:STANDARD
TZOFFSETFROM:+0200
TZOFFSETTO:+0100
TZNAME:CET
DTSTART:20271031T010000
END:STANDARD
END:VTIMEZONE
BEGIN:VEVENT
DTSTART;TZID=Europe/Berlin:20260903T190000
DTEND;TZID=Europe/Berlin:20260903T200000
DTSTAMP:20260421T221741
CREATED:20211126T120000Z
LAST-MODIFIED:20260312T002111Z
UID:3280-1788462000-1788465600@hafenschaenke.de
SUMMARY:Die Liga der gewöhnlichen Gentlemen
DESCRIPTION:Die Liga der gewöhnlichen Gentlemen\, vulgo DLDGG\, 2012 aus den Ruinen der verblichenen Superpunk entstanden\, bestechen auf ihren nun sieben regulären Alben (+ einer Best Of) mit ihrer Version von Popmusik\, an der sie mit erfrischender Sturheit festhalten. Beherzt setzen sie sich seitdem zwischen alle Stühle und veröffentlichen – beseelt von der Idee des ursprünglichen Punk (man muss kein Virtuose sein\, um tolle Musik zu machen) – großartige Popsongs\, stark beeinflusst von den drei großen „M“s (Madness\, Motown\, Modern Lovers). Mit einer herzerfrischenden Kompromisslosigkeit umarmen und zementieren sie ihren Außenseiterstatus gleichermaßen. Auf Anbiederung an den Zeitgeist zwecks Erfolgsmaximierung haben sie entweder keine Lust oder – was auch sein kann – einfach noch nicht drüber nachgedacht. \nZiel der Liga war und ist es immer\, dass jeder Album-Track auch eine Single sein kann. Auf ihrem neuen Werk Egg Benedict* haben sie es eigentlich geschafft. Erfrischend weit weg ist DLDGG vom zeitgenössischem Staatstheater- und Feuilletonrock\, welcher hierzulande so beliebt ist. Immer\, wenn ein neues Liga-Album erscheint\, ist es so\, als würde in einer etwas vermufften Wohnung am ersten warmen Frühlingstag das Fenster geöffnet werden und eine herrlich leichte Brise weht herein. Toll\, dass es sie gibt! \nCarsten Friedrichs (Gesang/Gitarre)\, Gunther Buskies (Keyboard uva)\, Tim Jürgens (Bass)\, Heiko Franz (Drums) und Fabio Papais (Gitarre) aus Hamburg und Berlin sind die größte kleine Popband der Welt. Zumindest aber die größte kleine Popband West-Hamburgs – also genau richtig bei uns. \nTICKETS im VVK hier an der Bar gebührenfrei +\nzu den üblichen Bedingungen @ Rausgegangen! \n \n*Aber warum denn „Egg Benedict“? Ja\, warum denn nicht? Vielleicht weil’s gut klingt? Darum. Um tieferen Sinn dürfen sich andere ab- & bemühen. Und warum eigentlich „Egg Benedict“ und nicht „Eggs Benedict“? Egal\, zu spät. Ist schon im Presswerk\, die Platte. Einfach mal Fünfe gerade sein lassen. So ist ja auch die Liga: Musik für Leute\, die auch mal Fünfe gerade sein lassen. Nach dem Motto: wenn Du ein Problem hast – scheiß‘ drauf! \nHat doch außerdem auch das Zeug zum Klassiker\, der Titel. Je länger man drüber nachdenkt: ist nicht der Sound der Liga eventuell die Entsprechung zum Eiergericht\, quasi ein bunt zusammengewürfeltes\, musikalisches Katerfrühstück? Zudem zergeht der Titel auf der Zunge. Nach „Gschichterln aus dem Park Café“ nun also der neueste DLDGG-Longplayer: „Egg Benedict!“ könnte es aus dem Radio schallen. Das hat doch Gesicht! \n„Hör mir mit den Eiern auf!“ \nNa gut\, also: vom Guten\, vom Wahren und vom Schönen handelt auch dieses Liga-Album\, von Kinos\, Sommer\, Bud Spencers Lebensmotto\, Hedy Lamarr (*1914; Schauspielerin; brünett\, als die anderen blond waren und sechsmal verheiratet; erfand eine Funksteuerung für Torpedos; später sollte ihre Erfindung die Grundlage für Bluetooth sein)\, Partys und Gewerkschaften. Die Liga selbst neigt ja zur Tiefstapelei – sagen wir doch\, wie es ist: wie öde wäre Musicland hier ohne die 5 Gewöhnlichen? Öde wär’s! \n„Egg Benedict“ ist ein musikalischer Film Noir in Bunt\, ein Dienstag in Dur\, Agit-Pop zum Tanzen auf Schloss Mühlenhof. Wer den DLDGG-Mischmasch aus DIY-Northern-Soul\, (Indie-)Pop\, 60s und was auch immer\, den mit Horns\, Banjo\, Flöten\, Sitar und Kinderinstrumenten angereicherten Wide-Eyed-Gitarren-Pop bisher mochte\, wird ihn jetzt lieben. \nUnd warum ist da Inspektor Clouseau von der Sûreté auf dem Eier-Cover? Einfach nur weil’s cool ist oder hat das einen tieferen Sinn? Natürlich weil er cool ist. Aber vielleicht steckt in der Liga und ihrem Pop doch ein tieferer Sinn\, den man auf Anhieb nicht entdeckt\, weil die so schlau sind? Findet es selber raus! Guten Appetit.
URL:https://hafenschaenke.de/event/dldgg/
LOCATION:subrosa\, Gneisenaustr. 56\, Dortmund\, NRW\, 44147\, Deutschland
CATEGORIES:dance,electric,entertainment,live on stage,music,party,Unterhaltung
ATTACH;FMTTYPE=image/jpeg:https://hafenschaenke.de/wp-content/uploads/2026/03/DLDGG-2025-05-wide3600x1829-col300dpi-credit_geborenWustmann.jpg
END:VEVENT
END:VCALENDAR